BEGIN:VCALENDAR
VERSION:2.0
PRODID:-//wp-events-plugin.com//7.2.3.1//EN
TZID:America/Phoenix
X-WR-TIMEZONE:America/Phoenix
BEGIN:VEVENT
UID:10@pimacpc.org
DTSTART;TZID=America/Phoenix:20230127T083000
DTEND;TZID=America/Phoenix:20230127T160000
DTSTAMP:20230430T061513Z
URL:https://pimacpc.org/events/the-impact-of-generational-trauma-and-the-s
 trength-of-culture/
SUMMARY:The Impact of Generational Trauma and the Strength of Culture
DESCRIPTION:[et_pb_section fb_built="1" admin_label="section" _builder_vers
 ion="4.16" global_colors_info="{}"][et_pb_row admin_label="row" _builder_v
 ersion="4.16" background_size="initial" background_position="top_left" bac
 kground_repeat="repeat" global_colors_info="{}"][et_pb_column type="4_4" _
 builder_version="4.16" custom_padding="|||" global_colors_info="{}" custom
 _padding__hover="|||"][et_pb_text admin_label="Text" _builder_version="4.1
 7.3" background_size="initial" background_position="top_left" background_r
 epeat="repeat" hover_enabled="0" global_colors_info="{}" sticky_enabled="0
 "]IN-PERSON REGISTRATION IS OPEN\n&nbsp\;\nThe Pima County Community Preve
 ntion Coalition and Diverse Voices in Prevention present:\nCommunity Insig
 hts for Health EquityHUMAN CENTERED STRATEGIES FOR ENGAGING DIVERSE POPULA
 TIONS Annual Cultural Humility Conference\n\nWHEN:\nThursday\, June 29\, 
 2023 | 9:00 am – 4:30 pm\nWHERE:\nPima Community College/Downtown 1255 N
  Stone Ave\, Tucson\, AZ 85709\nCOST:\n$35 per person Tickets are nonrefun
 dable\nCONTACT:\nKate Meyer kmeyer@ppep.org (520) 205-4781\nScholarships:\
 nClick here to apply[/et_pb_text][/et_pb_column][/et_pb_row][/et_pb_sectio
 n]
LOCATION:Community Foundation Campus\, 5049 East Broadway Boulevard\, Suite
  201\, Tucson\, AZ\, 85711\, United States
X-APPLE-STRUCTURED-LOCATION;VALUE=URI;X-ADDRESS=5049 East Broadway Boulevar
 d\, Suite 201\, Tucson\, AZ\, 85711\, United States;X-APPLE-RADIUS=100;X-T
 ITLE=Community Foundation Campus:geo:0,0
END:VEVENT
BEGIN:VTIMEZONE
TZID:America/Phoenix
X-LIC-LOCATION:America/Phoenix
BEGIN:STANDARD
DTSTART:20220127T083000
TZOFFSETFROM:-0700
TZOFFSETTO:-0700
TZNAME:MST
END:STANDARD
END:VTIMEZONE
END:VCALENDAR